BEGIN:VCALENDAR
VERSION:2.0
PRODID:-//Democratic Club of Willow Valley - ECPv6.15.20//NONSGML v1.0//EN
CALSCALE:GREGORIAN
METHOD:PUBLISH
X-WR-CALNAME:Democratic Club of Willow Valley
X-ORIGINAL-URL:https://demswvc.com
X-WR-CALDESC:Events for Democratic Club of Willow Valley
REFRESH-INTERVAL;VALUE=DURATION:PT1H
X-Robots-Tag:noindex
X-PUBLISHED-TTL:PT1H
BEGIN:VTIMEZONE
TZID:America/New_York
BEGIN:DAYLIGHT
TZOFFSETFROM:-0500
TZOFFSETTO:-0400
TZNAME:EDT
DTSTART:20240310T070000
END:DAYLIGHT
BEGIN:STANDARD
TZOFFSETFROM:-0400
TZOFFSETTO:-0500
TZNAME:EST
DTSTART:20241103T060000
END:STANDARD
BEGIN:DAYLIGHT
TZOFFSETFROM:-0500
TZOFFSETTO:-0400
TZNAME:EDT
DTSTART:20250309T070000
END:DAYLIGHT
BEGIN:STANDARD
TZOFFSETFROM:-0400
TZOFFSETTO:-0500
TZNAME:EST
DTSTART:20251102T060000
END:STANDARD
BEGIN:DAYLIGHT
TZOFFSETFROM:-0500
TZOFFSETTO:-0400
TZNAME:EDT
DTSTART:20260308T070000
END:DAYLIGHT
BEGIN:STANDARD
TZOFFSETFROM:-0400
TZOFFSETTO:-0500
TZNAME:EST
DTSTART:20261101T060000
END:STANDARD
BEGIN:DAYLIGHT
TZOFFSETFROM:-0500
TZOFFSETTO:-0400
TZNAME:EDT
DTSTART:20270314T070000
END:DAYLIGHT
BEGIN:STANDARD
TZOFFSETFROM:-0400
TZOFFSETTO:-0500
TZNAME:EST
DTSTART:20271107T060000
END:STANDARD
END:VTIMEZONE
BEGIN:VEVENT
DTSTART;TZID=America/New_York:20260421T130000
DTEND;TZID=America/New_York:20260421T143000
DTSTAMP:20260422T051557
CREATED:20260310T165518Z
LAST-MODIFIED:20260310T165518Z
UID:10000059-1776776400-1776781800@demswvc.com
SUMMARY:Christian Nationalism: An Update
DESCRIPTION:Click here to access the slides:
URL:https://demswvc.com/event/christian-nationalism-an-update/
LOCATION:Cultural Center Education Room
CATEGORIES:Education
END:VEVENT
BEGIN:VEVENT
DTSTART;TZID=America/New_York:20260324T100000
DTEND;TZID=America/New_York:20260324T113000
DTSTAMP:20260422T051558
CREATED:20260310T165054Z
LAST-MODIFIED:20260310T165054Z
UID:10000057-1774346400-1774351800@demswvc.com
SUMMARY:Our Broken Election System
DESCRIPTION:Click here to access the slides:
URL:https://demswvc.com/event/our-broken-election-system/
LOCATION:Cultural Center Education Room
CATEGORIES:Education
END:VEVENT
BEGIN:VEVENT
DTSTART;TZID=America/New_York:20260310T100000
DTEND;TZID=America/New_York:20260310T113000
DTSTAMP:20260422T051558
CREATED:20260310T164650Z
LAST-MODIFIED:20260310T164650Z
UID:10000056-1773136800-1773142200@demswvc.com
SUMMARY:PA’s Budgets: Current & Future
DESCRIPTION:
URL:https://demswvc.com/event/pas-budgets-current-future/
LOCATION:Cultural Center Education Room
CATEGORIES:Education
END:VEVENT
BEGIN:VEVENT
DTSTART;TZID=America/New_York:20260226T090000
DTEND;TZID=America/New_York:20260226T110000
DTSTAMP:20260422T051558
CREATED:20260131T184552Z
LAST-MODIFIED:20260219T193125Z
UID:10000038-1772096400-1772103600@demswvc.com
SUMMARY:Petition Signing Event
DESCRIPTION:
URL:https://demswvc.com/event/petition-signing-event/
LOCATION:Major WV apt-bldg sites
CATEGORIES:Petition Signing
END:VEVENT
BEGIN:VEVENT
DTSTART;TZID=America/New_York:20260224T130000
DTEND;TZID=America/New_York:20260224T140000
DTSTAMP:20260422T051558
CREATED:20260131T183613Z
LAST-MODIFIED:20260131T183613Z
UID:10000037-1771938000-1771941600@demswvc.com
SUMMARY:Jess Branas\, candidate for PA 197th House District.
DESCRIPTION:
URL:https://demswvc.com/event/jess-branas-candidate-for-pa-197th-house-district/
LOCATION:Cultural Center Education Room
CATEGORIES:General Meetings
END:VEVENT
BEGIN:VEVENT
DTSTART;TZID=America/New_York:20260217T130000
DTEND;TZID=America/New_York:20260217T143000
DTSTAMP:20260422T051558
CREATED:20260219T192719Z
LAST-MODIFIED:20260219T193216Z
UID:10000055-1771333200-1771338600@demswvc.com
SUMMARY:Who Pays State and Local Taxes?
DESCRIPTION:Who Pays State and Local Taxes? What are the different kinds of taxes? Which ones tend to be progressive (reducing income inequality)?  In which states are the taxes focused more on the rich? And where do the taxes focus on the poor? \n  \nClick here to access the slides: Who Pays State Taxes
URL:https://demswvc.com/event/who-pays-state-and-local-taxes/
CATEGORIES:Education
END:VEVENT
BEGIN:VEVENT
DTSTART;TZID=America/New_York:20260127T130000
DTEND;TZID=America/New_York:20260127T140000
DTSTAMP:20260422T051558
CREATED:20260131T183054Z
LAST-MODIFIED:20260201T204348Z
UID:10000036-1769518800-1769522400@demswvc.com
SUMMARY:Nancy Mannion speaks\, candidate for Democratic nomination for US House of Representatives
DESCRIPTION:Dems Club General Meeting Slides 2026-01-27 V2
URL:https://demswvc.com/event/nancy-mannion-speaks-candidate-for-democratic-nomination-for-us-house-of-representatives/
LOCATION:Cultural Center Education Room
CATEGORIES:General Meetings
END:VEVENT
BEGIN:VEVENT
DTSTART;TZID=America/New_York:20250916T100000
DTEND;TZID=America/New_York:20250916T113000
DTSTAMP:20260422T051558
CREATED:20250828T190806Z
LAST-MODIFIED:20250917T144345Z
UID:10000024-1758016800-1758022200@demswvc.com
SUMMARY:Judicial Elections and Retention
DESCRIPTION:Our own Jerry Henige will discuss the importance of retaining existing Democratic judges as well as electing new ones.  Come join us.  All are welcome. \nClick here to see slides from the event: UoD Judicial Retentions and Elections
URL:https://demswvc.com/event/judicial-elections-and-retention/
LOCATION:Cultural Center Education Room
CATEGORIES:Education
END:VEVENT
BEGIN:VEVENT
DTSTART;TZID=America/New_York:20250819T100000
DTEND;TZID=America/New_York:20250819T113000
DTSTAMP:20260422T051558
CREATED:20250723T144339Z
LAST-MODIFIED:20250819T213220Z
UID:10000021-1755597600-1755603000@demswvc.com
SUMMARY:Court Appointed Special Advocates
DESCRIPTION:Understanding Our Democracy: Court Appointed Special Advocates for Children;  Tuesday\, August 19th  @10 am\, Education Room at the Cultural Center \nErin Small is returning as our guest speaker. She will talk to us about CASA (Court Appointed Special Advocates for Children). Their Mission is to provide a qualified and compassionate court-appointed volunteer advocate to every child who is abused and neglected\, to ensure the fundamental human right of having a safe\, nurturing\, and permanent home is met. To date\, they have served over 1\,200 children. Please join us; everyone is welcome.
URL:https://demswvc.com/event/court-appointed-special-advocates/
LOCATION:Cultural Center Education Room
END:VEVENT
BEGIN:VEVENT
DTSTART;TZID=America/New_York:20250721T100000
DTEND;TZID=America/New_York:20250721T113000
DTSTAMP:20260422T051558
CREATED:20250616T133238Z
LAST-MODIFIED:20250616T192946Z
UID:10000020-1753092000-1753097400@demswvc.com
SUMMARY:Healthcare Challenges
DESCRIPTION:Nancy Mannion will be our speaker on Monday\, July 21\, 2025 from 10:00 – 11:30 AM.  She is a nurse\, advocate\, humanitarian\, and author who recently spoke at a local rally protesting federal budget cuts to healthcare and science.  She is anticipating running for US Congress to challenge Representative Lloyd Smucker. \nAll are welcome to attend.
URL:https://demswvc.com/event/understanding-our-democracy-nancy-mannion/
CATEGORIES:Education
END:VEVENT
BEGIN:VEVENT
DTSTART;TZID=America/New_York:20250715T100000
DTEND;TZID=America/New_York:20250715T113000
DTSTAMP:20260422T051558
CREATED:20250616T132944Z
LAST-MODIFIED:20250723T143318Z
UID:10000019-1752573600-1752579000@demswvc.com
SUMMARY:Housing and Homelessness
DESCRIPTION:We will look back at the origins of today’s crisis\, the inadequate responses over the years\, and how we can best address both housing & homelessness. \nPlease join us if you can; everyone is welcome.  To see the slides from this event\, click on this link: UoD Housing First Works
URL:https://demswvc.com/event/understanding-our-democracy-to-be-announced/
CATEGORIES:Education
END:VEVENT
BEGIN:VEVENT
DTSTART;TZID=America/New_York:20250522T100000
DTEND;TZID=America/New_York:20250522T113000
DTSTAMP:20260422T051558
CREATED:20250520T125303Z
LAST-MODIFIED:20250616T193742Z
UID:10000014-1747908000-1747913400@demswvc.com
SUMMARY:Funding for Local School Districts
DESCRIPTION:Susan Spica (Education Voters PA) and Erin Small (candidate for Hempfield School Board) will update us about what is happening with federal and state education funding for local school districts. Pennsylvania’s state funding system for education was declared unconstitutional in 2023. Learn what steps have been taken to remedy this situation and what you can do to support a 2025-2026 state budget that will bring our public schools closer to constitutional school funding. Please join us … everyone is welcome. \nFor more information\, click on one or more of the following links: \nCyber Charter Waste – front \nCyber Charter Waste – back \nLancaster County Lampeter-Strasburg SD \nLancaster County SD of Lancaster
URL:https://demswvc.com/event/may-22-2025/
LOCATION:Cultural Center Education Room
CATEGORIES:Education
END:VEVENT
END:VCALENDAR