BEGIN:VCALENDAR
VERSION:2.0
PRODID:-//Democratic Club of Willow Valley - ECPv6.15.20//NONSGML v1.0//EN
CALSCALE:GREGORIAN
METHOD:PUBLISH
X-WR-CALNAME:Democratic Club of Willow Valley
X-ORIGINAL-URL:https://demswvc.com
X-WR-CALDESC:Events for Democratic Club of Willow Valley
REFRESH-INTERVAL;VALUE=DURATION:PT1H
X-Robots-Tag:noindex
X-PUBLISHED-TTL:PT1H
BEGIN:VTIMEZONE
TZID:America/New_York
BEGIN:DAYLIGHT
TZOFFSETFROM:-0500
TZOFFSETTO:-0400
TZNAME:EDT
DTSTART:20250309T070000
END:DAYLIGHT
BEGIN:STANDARD
TZOFFSETFROM:-0400
TZOFFSETTO:-0500
TZNAME:EST
DTSTART:20251102T060000
END:STANDARD
BEGIN:DAYLIGHT
TZOFFSETFROM:-0500
TZOFFSETTO:-0400
TZNAME:EDT
DTSTART:20260308T070000
END:DAYLIGHT
BEGIN:STANDARD
TZOFFSETFROM:-0400
TZOFFSETTO:-0500
TZNAME:EST
DTSTART:20261101T060000
END:STANDARD
BEGIN:DAYLIGHT
TZOFFSETFROM:-0500
TZOFFSETTO:-0400
TZNAME:EDT
DTSTART:20270314T070000
END:DAYLIGHT
BEGIN:STANDARD
TZOFFSETFROM:-0400
TZOFFSETTO:-0500
TZNAME:EST
DTSTART:20271107T060000
END:STANDARD
END:VTIMEZONE
BEGIN:VEVENT
DTSTART;TZID=America/New_York:20260127T130000
DTEND;TZID=America/New_York:20260127T140000
DTSTAMP:20260420T215012
CREATED:20260131T183054Z
LAST-MODIFIED:20260201T204348Z
UID:10000036-1769518800-1769522400@demswvc.com
SUMMARY:Nancy Mannion speaks\, candidate for Democratic nomination for US House of Representatives
DESCRIPTION:Dems Club General Meeting Slides 2026-01-27 V2
URL:https://demswvc.com/event/nancy-mannion-speaks-candidate-for-democratic-nomination-for-us-house-of-representatives/
LOCATION:Cultural Center Education Room
CATEGORIES:General Meetings
END:VEVENT
BEGIN:VEVENT
DTSTART;TZID=America/New_York:20260201T080000
DTEND;TZID=America/New_York:20260201T170000
DTSTAMP:20260420T215012
CREATED:20260101T185339Z
LAST-MODIFIED:20260219T194936Z
UID:10000044-1769932800-1769965200@demswvc.com
SUMMARY:February 2026 Newsletter
DESCRIPTION:Dems Club Newsletter 2026-02 V2
URL:https://demswvc.com/event/february-2026-newsletter-2/
CATEGORIES:Newsletters
END:VEVENT
BEGIN:VEVENT
DTSTART;TZID=America/New_York:20260201T080000
DTEND;TZID=America/New_York:20260201T170000
DTSTAMP:20260420T215012
CREATED:20260201T202759Z
LAST-MODIFIED:20260201T202759Z
UID:10000042-1769932800-1769965200@demswvc.com
SUMMARY:February 2026 Newsletter
DESCRIPTION:Dems Club Newsletter 2026-02 V2
URL:https://demswvc.com/event/february-2026-newsletter/
END:VEVENT
BEGIN:VEVENT
DTSTART;TZID=America/New_York:20260217T130000
DTEND;TZID=America/New_York:20260217T143000
DTSTAMP:20260420T215012
CREATED:20260219T192719Z
LAST-MODIFIED:20260219T193216Z
UID:10000055-1771333200-1771338600@demswvc.com
SUMMARY:Who Pays State and Local Taxes?
DESCRIPTION:Who Pays State and Local Taxes? What are the different kinds of taxes? Which ones tend to be progressive (reducing income inequality)?  In which states are the taxes focused more on the rich? And where do the taxes focus on the poor? \n  \nClick here to access the slides: Who Pays State Taxes
URL:https://demswvc.com/event/who-pays-state-and-local-taxes/
CATEGORIES:Education
END:VEVENT
BEGIN:VEVENT
DTSTART;TZID=America/New_York:20260224T130000
DTEND;TZID=America/New_York:20260224T140000
DTSTAMP:20260420T215012
CREATED:20260131T183613Z
LAST-MODIFIED:20260131T183613Z
UID:10000037-1771938000-1771941600@demswvc.com
SUMMARY:Jess Branas\, candidate for PA 197th House District.
DESCRIPTION:
URL:https://demswvc.com/event/jess-branas-candidate-for-pa-197th-house-district/
LOCATION:Cultural Center Education Room
CATEGORIES:General Meetings
END:VEVENT
BEGIN:VEVENT
DTSTART;TZID=America/New_York:20260226T090000
DTEND;TZID=America/New_York:20260226T110000
DTSTAMP:20260420T215012
CREATED:20260131T184552Z
LAST-MODIFIED:20260219T193125Z
UID:10000038-1772096400-1772103600@demswvc.com
SUMMARY:Petition Signing Event
DESCRIPTION:
URL:https://demswvc.com/event/petition-signing-event/
LOCATION:Major WV apt-bldg sites
CATEGORIES:Petition Signing
END:VEVENT
BEGIN:VEVENT
DTSTART;TZID=America/New_York:20260301T080000
DTEND;TZID=America/New_York:20260301T170000
DTSTAMP:20260420T215012
CREATED:20260211T185550Z
LAST-MODIFIED:20260409T144423Z
UID:10000045-1772352000-1772384400@demswvc.com
SUMMARY:March 2026 Newsletter
DESCRIPTION:Click here to access the newsletter:  Dems Club Newsletter 2026 March
URL:https://demswvc.com/event/march-2026-newsletter/
CATEGORIES:Newsletters
END:VEVENT
BEGIN:VEVENT
DTSTART;TZID=America/New_York:20260310T100000
DTEND;TZID=America/New_York:20260310T113000
DTSTAMP:20260420T215012
CREATED:20260310T164650Z
LAST-MODIFIED:20260310T164650Z
UID:10000056-1773136800-1773142200@demswvc.com
SUMMARY:PA’s Budgets: Current & Future
DESCRIPTION:
URL:https://demswvc.com/event/pas-budgets-current-future/
LOCATION:Cultural Center Education Room
CATEGORIES:Education
END:VEVENT
BEGIN:VEVENT
DTSTART;TZID=America/New_York:20260324T100000
DTEND;TZID=America/New_York:20260324T113000
DTSTAMP:20260420T215012
CREATED:20260310T165054Z
LAST-MODIFIED:20260310T165054Z
UID:10000057-1774346400-1774351800@demswvc.com
SUMMARY:Our Broken Election System
DESCRIPTION:Click here to access the slides:
URL:https://demswvc.com/event/our-broken-election-system/
LOCATION:Cultural Center Education Room
CATEGORIES:Education
END:VEVENT
BEGIN:VEVENT
DTSTART;TZID=America/New_York:20260331T130000
DTEND;TZID=America/New_York:20260331T140000
DTSTAMP:20260420T215012
CREATED:20260310T170006Z
LAST-MODIFIED:20260310T170705Z
UID:10000060-1774962000-1774965600@demswvc.com
SUMMARY:General Meeting: Meet the Food Hub Team
DESCRIPTION:click here to access the slides:
URL:https://demswvc.com/event/general-meeting-meet-the-food-hub-team/
LOCATION:Cultural Center Education Room
CATEGORIES:General Meetings
ORGANIZER;CN="(Ms.) Ross Fairweather":MAILTO:rossfair63@gmail.com
END:VEVENT
BEGIN:VEVENT
DTSTART;TZID=America/New_York:20260401T080000
DTEND;TZID=America/New_York:20260401T170000
DTSTAMP:20260420T215012
CREATED:20260211T185725Z
LAST-MODIFIED:20260310T170649Z
UID:10000046-1775030400-1775062800@demswvc.com
SUMMARY:April 2026 Newsletter
DESCRIPTION:to be posted when available
URL:https://demswvc.com/event/april-2026-newsletter/
CATEGORIES:Newsletters
END:VEVENT
BEGIN:VEVENT
DTSTART;TZID=America/New_York:20260407T100000
DTEND;TZID=America/New_York:20260407T113000
DTSTAMP:20260420T215012
CREATED:20260310T165328Z
LAST-MODIFIED:20260409T143906Z
UID:10000058-1775556000-1775561400@demswvc.com
SUMMARY:How Democrats Can Win
DESCRIPTION:Here are links to the information that was covered and/or referenced. \nWe started with a half-hour talk by Ezra Klein (originally recorded before last November’s election): \nhttps://www.nytimes.com/2025/11/02/opinion/democrats-liberalism-elections-crick.html \nWe then moved to the state of democracy in the U.S. As I then mentioned\, there are three organizations that rate the state of democracy in countries around the world: Freedom House in the US\, a think-tank associated with the Economist magazine in England\, and V-Dem in Stockholm. The 2026 V-Dem report was recently released. One quick note from the Executive Summary of the V-Dem report says it all: “The USA loses its long-term status as a liberal democracy – for the first time in over 50 years.” Here is a link to the full 2026 V-Dem Report on the 2025 State of Democracy across the world: \nhttps://www.v-dem.net/documents/75/V-Dem_Institute_Democracy_Report_2026_lowres.pdf \nAnd then we talked about the need to do much more than just elect Democrats. Here is the link to the article noting that we cannot rely on the democracy we had to protect us! It failed us before and it can and will fail again! We must build the democracy that we were promised\, but that was never fully delivered! (Thanks to Margaret Babcock for pointing me to this article!) \nhttps://antiauthoritarianplaybook.substack.com/p/how-democracies-win \nAnd here is a bonus: the 2026 state of democracy report from Freedom House (“The Growing Shadow of Autocracy”); although not quite as damning of American democracy as V-Dem\, it notes the serious decline in the state of democracy in the U.S.: “Among countries rated Free\, the United States\, Bulgaria\, and Italy have experienced the year’s largest declines. In the United States\, an escalation in both legislative dysfunction and executive dominance\, growing pressure on people’s ability to engage in free expression\, and the new administration’s moves to undermine anticorruption safeguards all contributed to the negative score change. The United States lost 3 points on the report’s 100-point scale\, bringing its net decline since 2005 to 12 points\, more than any other country rated Free during the same period except for Nauru and Bulgaria.” Here is a link to the full report: \nhttps://freedomhouse.org/report/freedom-world/2026/growing-shadow-autocracy#democracy-and-freedom-will-endure
URL:https://demswvc.com/event/how-democrats-can-win/
LOCATION:Cultural Center Education Room
CATEGORIES:Education
END:VEVENT
BEGIN:VEVENT
DTSTART;TZID=America/New_York:20260421T130000
DTEND;TZID=America/New_York:20260421T143000
DTSTAMP:20260420T215012
CREATED:20260310T165518Z
LAST-MODIFIED:20260310T165518Z
UID:10000059-1776776400-1776781800@demswvc.com
SUMMARY:Christian Nationalism: An Update
DESCRIPTION:Click here to access the slides:
URL:https://demswvc.com/event/christian-nationalism-an-update/
LOCATION:Cultural Center Education Room
CATEGORIES:Education
END:VEVENT
BEGIN:VEVENT
DTSTART;TZID=America/New_York:20260428T130000
DTEND;TZID=America/New_York:20260428T140000
DTSTAMP:20260420T215012
CREATED:20260310T170243Z
LAST-MODIFIED:20260310T170417Z
UID:10000061-1777381200-1777384800@demswvc.com
SUMMARY:General Meeting:  Church World Services Update
DESCRIPTION:Click here to access the slides:
URL:https://demswvc.com/event/general-meeting-church-world-services-update/
LOCATION:Cultural Center Education Room
CATEGORIES:General Meetings
ORGANIZER;CN="(Ms.) Ross Fairweather":MAILTO:rossfair63@gmail.com
END:VEVENT
BEGIN:VEVENT
DTSTART;TZID=America/New_York:20260501T080000
DTEND;TZID=America/New_York:20260501T170000
DTSTAMP:20260420T215012
CREATED:20260211T185838Z
LAST-MODIFIED:20260310T171937Z
UID:10000047-1777622400-1777654800@demswvc.com
SUMMARY:May 2026 Newsletter
DESCRIPTION:to be posted when available
URL:https://demswvc.com/event/may-2026-newsletter/
CATEGORIES:Newsletters
ORGANIZER;CN="(Ms.) Ross Fairweather":MAILTO:rossfair63@gmail.com
END:VEVENT
BEGIN:VEVENT
DTSTART;TZID=America/New_York:20260601T080000
DTEND;TZID=America/New_York:20260601T170000
DTSTAMP:20260420T215012
CREATED:20260211T185948Z
LAST-MODIFIED:20260310T171826Z
UID:10000048-1780300800-1780333200@demswvc.com
SUMMARY:June 2026 Newsletter
DESCRIPTION:to be posted when available
URL:https://demswvc.com/event/june-2026-newsletter/
CATEGORIES:Newsletters
ORGANIZER;CN="(Ms.) Ross Fairweather":MAILTO:rossfair63@gmail.com
END:VEVENT
BEGIN:VEVENT
DTSTART;TZID=America/New_York:20260701T080000
DTEND;TZID=America/New_York:20260701T170000
DTSTAMP:20260420T215012
CREATED:20260211T190235Z
LAST-MODIFIED:20260310T171658Z
UID:10000049-1782892800-1782925200@demswvc.com
SUMMARY:July 2026 Newsletter
DESCRIPTION:to be posted when available
URL:https://demswvc.com/event/july-2026-newsletter/
CATEGORIES:Newsletters
ORGANIZER;CN="(Ms.) Ross Fairweather":MAILTO:rossfair63@gmail.com
END:VEVENT
BEGIN:VEVENT
DTSTART;TZID=America/New_York:20260801T080000
DTEND;TZID=America/New_York:20260801T170000
DTSTAMP:20260420T215012
CREATED:20260211T190516Z
LAST-MODIFIED:20260310T171541Z
UID:10000050-1785571200-1785603600@demswvc.com
SUMMARY:August 2026 Newsletter
DESCRIPTION:to be posted when available
URL:https://demswvc.com/event/august-2026-newsletter/
CATEGORIES:Newsletters
END:VEVENT
BEGIN:VEVENT
DTSTART;TZID=America/New_York:20260901T080000
DTEND;TZID=America/New_York:20260901T170000
DTSTAMP:20260420T215012
CREATED:20260211T190715Z
LAST-MODIFIED:20260310T171325Z
UID:10000051-1788249600-1788282000@demswvc.com
SUMMARY:September 2026 Newsletter
DESCRIPTION:to be posted when available
URL:https://demswvc.com/event/september-2026-newsletter/
CATEGORIES:Newsletters
ORGANIZER;CN="(Ms.) Ross Fairweather":MAILTO:rossfair63@gmail.com
END:VEVENT
BEGIN:VEVENT
DTSTART;TZID=America/New_York:20261001T080000
DTEND;TZID=America/New_York:20261001T170000
DTSTAMP:20260420T215012
CREATED:20260211T191001Z
LAST-MODIFIED:20260310T170627Z
UID:10000052-1790841600-1790874000@demswvc.com
SUMMARY:October 2026 Newsletter
DESCRIPTION:to be posted when available
URL:https://demswvc.com/event/october-2026-newsletter/
CATEGORIES:Newsletters
END:VEVENT
BEGIN:VEVENT
DTSTART;TZID=America/New_York:20261101T080000
DTEND;TZID=America/New_York:20261101T170000
DTSTAMP:20260420T215012
CREATED:20260211T191254Z
LAST-MODIFIED:20260310T170608Z
UID:10000053-1793520000-1793552400@demswvc.com
SUMMARY:November 2026 Newsletter
DESCRIPTION:to be posted when available
URL:https://demswvc.com/event/november-2026-newsletter/
CATEGORIES:Newsletters
END:VEVENT
BEGIN:VEVENT
DTSTART;TZID=America/New_York:20261201T080000
DTEND;TZID=America/New_York:20261201T170000
DTSTAMP:20260420T215012
CREATED:20260211T191535Z
LAST-MODIFIED:20260219T193017Z
UID:10000054-1796112000-1796144400@demswvc.com
SUMMARY:December 2026 Newsletter
DESCRIPTION:to be posted when available
URL:https://demswvc.com/event/december-2026-newsletter/
CATEGORIES:Newsletters
END:VEVENT
END:VCALENDAR