BEGIN:VCALENDAR
VERSION:2.0
PRODID:-//Democratic Club of Willow Valley - ECPv6.15.20//NONSGML v1.0//EN
CALSCALE:GREGORIAN
METHOD:PUBLISH
X-WR-CALNAME:Democratic Club of Willow Valley
X-ORIGINAL-URL:https://demswvc.com
X-WR-CALDESC:Events for Democratic Club of Willow Valley
REFRESH-INTERVAL;VALUE=DURATION:PT1H
X-Robots-Tag:noindex
X-PUBLISHED-TTL:PT1H
BEGIN:VTIMEZONE
TZID:America/New_York
BEGIN:DAYLIGHT
TZOFFSETFROM:-0500
TZOFFSETTO:-0400
TZNAME:EDT
DTSTART:20240310T070000
END:DAYLIGHT
BEGIN:STANDARD
TZOFFSETFROM:-0400
TZOFFSETTO:-0500
TZNAME:EST
DTSTART:20241103T060000
END:STANDARD
BEGIN:DAYLIGHT
TZOFFSETFROM:-0500
TZOFFSETTO:-0400
TZNAME:EDT
DTSTART:20250309T070000
END:DAYLIGHT
BEGIN:STANDARD
TZOFFSETFROM:-0400
TZOFFSETTO:-0500
TZNAME:EST
DTSTART:20251102T060000
END:STANDARD
BEGIN:DAYLIGHT
TZOFFSETFROM:-0500
TZOFFSETTO:-0400
TZNAME:EDT
DTSTART:20260308T070000
END:DAYLIGHT
BEGIN:STANDARD
TZOFFSETFROM:-0400
TZOFFSETTO:-0500
TZNAME:EST
DTSTART:20261101T060000
END:STANDARD
BEGIN:DAYLIGHT
TZOFFSETFROM:-0500
TZOFFSETTO:-0400
TZNAME:EDT
DTSTART:20270314T070000
END:DAYLIGHT
BEGIN:STANDARD
TZOFFSETFROM:-0400
TZOFFSETTO:-0500
TZNAME:EST
DTSTART:20271107T060000
END:STANDARD
END:VTIMEZONE
BEGIN:VEVENT
DTSTART;TZID=America/New_York:20260331T130000
DTEND;TZID=America/New_York:20260331T140000
DTSTAMP:20260422T051910
CREATED:20260310T170006Z
LAST-MODIFIED:20260310T170705Z
UID:10000060-1774962000-1774965600@demswvc.com
SUMMARY:General Meeting: Meet the Food Hub Team
DESCRIPTION:click here to access the slides:
URL:https://demswvc.com/event/general-meeting-meet-the-food-hub-team/
LOCATION:Cultural Center Education Room
CATEGORIES:General Meetings
ORGANIZER;CN="(Ms.) Ross Fairweather":MAILTO:rossfair63@gmail.com
END:VEVENT
BEGIN:VEVENT
DTSTART;TZID=America/New_York:20260224T130000
DTEND;TZID=America/New_York:20260224T140000
DTSTAMP:20260422T051910
CREATED:20260131T183613Z
LAST-MODIFIED:20260131T183613Z
UID:10000037-1771938000-1771941600@demswvc.com
SUMMARY:Jess Branas\, candidate for PA 197th House District.
DESCRIPTION:
URL:https://demswvc.com/event/jess-branas-candidate-for-pa-197th-house-district/
LOCATION:Cultural Center Education Room
CATEGORIES:General Meetings
END:VEVENT
BEGIN:VEVENT
DTSTART;TZID=America/New_York:20260127T130000
DTEND;TZID=America/New_York:20260127T140000
DTSTAMP:20260422T051910
CREATED:20260131T183054Z
LAST-MODIFIED:20260201T204348Z
UID:10000036-1769518800-1769522400@demswvc.com
SUMMARY:Nancy Mannion speaks\, candidate for Democratic nomination for US House of Representatives
DESCRIPTION:Dems Club General Meeting Slides 2026-01-27 V2
URL:https://demswvc.com/event/nancy-mannion-speaks-candidate-for-democratic-nomination-for-us-house-of-representatives/
LOCATION:Cultural Center Education Room
CATEGORIES:General Meetings
END:VEVENT
BEGIN:VEVENT
DTSTART;TZID=America/New_York:20251028T130000
DTEND;TZID=America/New_York:20251028T140000
DTSTAMP:20260422T051910
CREATED:20250828T185400Z
LAST-MODIFIED:20251021T151133Z
UID:10000023-1761656400-1761660000@demswvc.com
SUMMARY:Kristy Gismot speaks about United Way Lancaster
DESCRIPTION:Kristy Gismot\, VP Resource Development\, United Way\, Lancaster\, PA \nSolicitation of your ideas\, suggestions and feedback
URL:https://demswvc.com/event/kristy-gismot/
LOCATION:Cultural Center Education Room
CATEGORIES:General Meetings
ORGANIZER;CN="(Ms.) Ross Fairweather":MAILTO:rossfair63@gmail.com
END:VEVENT
BEGIN:VEVENT
DTSTART;TZID=America/New_York:20250930T130000
DTEND;TZID=America/New_York:20250930T140000
DTSTAMP:20260422T051910
CREATED:20250828T185142Z
LAST-MODIFIED:20251024T154112Z
UID:10000022-1759237200-1759240800@demswvc.com
SUMMARY:David LaMotte speaks on how to change the world
DESCRIPTION:We will present David LaMotte’s video on how to change the world. It is not naive to think you can change the world\, it is naive to think you could be in the world and not change it\, but that change happens in community. Business meeting follows.  Come join us.  All are welcome. \nClick here to see slides: Dems Club General Meeting Slides 2025 Sept \nClick here to see the meeting minutes:  Dems General Meeting Minutes 2025-09-30
URL:https://demswvc.com/event/david-lamotte-speaks-on-how-to-change-the-world/
LOCATION:Cultural Center Education Room
CATEGORIES:General Meetings
ORGANIZER;CN="(Ms.) Ross Fairweather":MAILTO:rossfair63@gmail.com
END:VEVENT
BEGIN:VEVENT
DTSTART;TZID=America/New_York:20250826T130000
DTEND;TZID=America/New_York:20250826T140000
DTSTAMP:20260422T051910
CREATED:20250517T185149Z
LAST-MODIFIED:20251024T135812Z
UID:10000013-1756213200-1756216800@demswvc.com
SUMMARY:Hear from Three Local Candidates
DESCRIPTION:  \nMeet our Democratic School Board candidates Sarah Cook and Kirk Williard\, as well as West Lampeter Township Supervisor candidate Tracy Arnold. \n  \nClick this link to open.  Dems Club General Meeting Slides 2025-08-26 V4 \nClick this link to open.  Dems General Meeting Minutes 2025-08-26
URL:https://demswvc.com/event/general-meeting/
CATEGORIES:General Meetings
END:VEVENT
BEGIN:VEVENT
DTSTART;TZID=America/New_York:20250729T093000
DTEND;TZID=America/New_York:20250729T113000
DTSTAMP:20260422T051910
CREATED:20250425T191613Z
LAST-MODIFIED:20250616T192546Z
UID:10000012-1753781400-1753788600@demswvc.com
SUMMARY:Field Trip to Milagro House Group Tour #2
DESCRIPTION:Join us for this second\, identical tour of the impressive Milagro House to be held at 10 AM on Tuesday July 29th.  This non-profit helps women with children achieve long-term success through education. Pre-registration is required: contact Ross Fairweather at rossfair63@gmail.com or 717-405-8447 to signup and schedule a ride to the event.  (Allow two hours\, door-to-door total duration.) \nClick on this hotlink to learn more about Milagro House:  Milagro House Field Trips
URL:https://demswvc.com/event/july-29-2025-milagro-house-group-tour-2/
CATEGORIES:General Meetings
ORGANIZER;CN="(Ms.) Ross Fairweather":MAILTO:rossfair63@gmail.com
END:VEVENT
BEGIN:VEVENT
DTSTART;TZID=America/New_York:20250723T133000
DTEND;TZID=America/New_York:20250723T153000
DTSTAMP:20260422T051910
CREATED:20250425T185219Z
LAST-MODIFIED:20250616T194745Z
UID:10000010-1753277400-1753284600@demswvc.com
SUMMARY:Field Trip to Milagro House Tour Group #1
DESCRIPTION:Join us for a tour of the impressive Milagro House to be held at 2 PM on Wednesday July 23rd. This non-profit helps women with children achieve long-term success through education. Pre-registration is required: contact Ross Fairweather at rossfair63@gmail.com or 717-405-8447 to signup and schedule a ride to the event.  (Allow three hours\, door-to-door total duration.) \nTo learn more about Milagro House\, click on this hotlink: Milagro House Field Trips
URL:https://demswvc.com/event/jul-23-2025-milagro-house-tour-group-1/
LOCATION:669 West Chestnut Street\, 669 W Chestnut St\, Lancaster\, PA\, 17603\, United States
CATEGORIES:General Meetings
ORGANIZER;CN="(Ms.) Ross Fairweather":MAILTO:rossfair63@gmail.com
END:VEVENT
BEGIN:VEVENT
DTSTART;TZID=America/New_York:20250624T130000
DTEND;TZID=America/New_York:20250624T140000
DTSTAMP:20260422T051910
CREATED:20250424T060019Z
LAST-MODIFIED:20251024T140432Z
UID:10000009-1750770000-1750773600@demswvc.com
SUMMARY:Hear speaker PA Rep. Izzy Smith-Wade-El
DESCRIPTION:Come hear PA Rep. Ismail Smith-Wade-El talk about the current events underway in the legislative session with an emphasis on the housing crisis in PA and Lancaster County. \nClick on this link to open the slides:  Dems Club General Meeting Slides 2025 June \nClick on this link to open the meeting minutes: Dems General Meeting Minutes 2025-06-24
URL:https://demswvc.com/event/june-24-2025/
CATEGORIES:General Meetings
END:VEVENT
BEGIN:VEVENT
DTSTART;TZID=America/New_York:20250527T130000
DTEND;TZID=America/New_York:20250527T140000
DTSTAMP:20260422T051910
CREATED:20250425T164510Z
LAST-MODIFIED:20251024T140654Z
UID:10000008-1748350800-1748354400@demswvc.com
SUMMARY:Hear Chris Baxter from SpotLightPA
DESCRIPTION:You have to hear Chris Baxter talk about the evolution of the publishing industry and its impact locally.  As CEO of Spotlight PA\, Chris knows everything that’s going on in Pennsylvania.  Come join the Democratic Club of Willow Valley at its monthly meeting on Tuesday\, May 27 at 1 pm.  Everyone is welcome. \nClick on this link to view the slides:  Dems Club General Meeting Slides 2025 May \nClick on this link to view the meeting minutes:  Dems General Meeting Minutes 2025-05-27
URL:https://demswvc.com/event/may-27th-2025/
CATEGORIES:General Meetings
END:VEVENT
BEGIN:VEVENT
DTSTART;TZID=America/New_York:20250429T130000
DTEND;TZID=America/New_York:20250429T140000
DTSTAMP:20260422T051910
CREATED:20250224T114410Z
LAST-MODIFIED:20250616T193843Z
UID:10000005-1745931600-1745935200@demswvc.com
SUMMARY:Hear about Braver Angels
DESCRIPTION:Braver Angels is a non-profit that offers workshops\, events and online conversations to help Americans across the political spectrum bridge their differences and find common ground.  Presented by Ted Borek and Terry Webb. Everyone is welcome. \nDems Club General Meeting Slides 2025 April \nBraver Angels Presentation \nDems General Meeting Minutes 2025-04-29
URL:https://demswvc.com/event/april-29-2025/
CATEGORIES:General Meetings
ATTACH;FMTTYPE=image/jpeg:https://demswvc.com/wp-content/uploads/2025/02/fmf_ZzQ8knj.jpg
END:VEVENT
BEGIN:VEVENT
DTSTART;TZID=America/New_York:20250325T100000
DTEND;TZID=America/New_York:20250325T170000
DTSTAMP:20260422T051910
CREATED:20250224T114251Z
LAST-MODIFIED:20250616T193932Z
UID:10000004-1742896800-1742922000@demswvc.com
SUMMARY:Hear Jamie Arroyo\, Democratic candidate for mayor of Lancaster City
DESCRIPTION:Our guest speaker will be Jamie Arroyo\, Democratic candidate for mayor of Lancaster City. While we don’t live within the boundaries of the City\, its governance definitely impacts our way of life. Come join us and hear this effective speaker. \nTo see the PDF containing the slides of the event\, click on this link: Dems Club General Meeting Slides 2025 Mar \nTo see the file containing the minutes from this meeting\, click on this link: Dems General Meeting Minutes 2025-03-25
URL:https://demswvc.com/event/march-25-2025/
CATEGORIES:General Meetings
ATTACH;FMTTYPE=image/jpeg:https://demswvc.com/wp-content/uploads/2025/02/Jamie-Arroyo.jpg
END:VEVENT
BEGIN:VEVENT
DTSTART;TZID=America/New_York:20250225T100000
DTEND;TZID=America/New_York:20250225T113000
DTSTAMP:20260422T051910
CREATED:20250224T114200Z
LAST-MODIFIED:20250616T194142Z
UID:10000003-1740477600-1740483000@demswvc.com
SUMMARY:Hear from Jon Heinly\, Lancaster Public Library
DESCRIPTION:Our guest speaker will be Jon Heinly\, Director of Donor Advertising of the Lancaster Public Library. She will discuss the issues surrounding censorship and withdrawal of funding in this contentious environment. \nTo see the PDF containing the slides of the event\, click on this hotlink: General Meeting February 25\, 2025 \nTo see the file containing the minutes of this meeting\, click on this hotlink: Dems General Meeting Minutes 2025-02-25
URL:https://demswvc.com/event/february-25-2025/
CATEGORIES:General Meetings
END:VEVENT
BEGIN:VEVENT
DTSTART;TZID=America/New_York:20250128T130000
DTEND;TZID=America/New_York:20250128T140000
DTSTAMP:20260422T051910
CREATED:20250314T134406Z
LAST-MODIFIED:20250616T194319Z
UID:10000006-1738069200-1738072800@demswvc.com
SUMMARY:Hear Jen Porter talk about where we are headed
DESCRIPTION:No Speaker. Our president will discuss the issues surrounding censorship and withdrawal of funding in this contentious environment. \nTo see the PDF containing the slides of the event\, click on this hotlink: General Meeting January 28\, 2025 \nTo see the file containing the meeting minutes\, click on this hotlink: Dems General Meeting Minutes 2025-01-25
URL:https://demswvc.com/event/january-28-2025/
CATEGORIES:General Meetings
END:VEVENT
END:VCALENDAR