BEGIN:VCALENDAR
VERSION:2.0
PRODID:-//Democratic Club of Willow Valley - ECPv6.15.20//NONSGML v1.0//EN
CALSCALE:GREGORIAN
METHOD:PUBLISH
X-ORIGINAL-URL:https://demswvc.com
X-WR-CALDESC:Events for Democratic Club of Willow Valley
REFRESH-INTERVAL;VALUE=DURATION:PT1H
X-Robots-Tag:noindex
X-PUBLISHED-TTL:PT1H
BEGIN:VTIMEZONE
TZID:America/New_York
BEGIN:DAYLIGHT
TZOFFSETFROM:-0500
TZOFFSETTO:-0400
TZNAME:EDT
DTSTART:20240310T070000
END:DAYLIGHT
BEGIN:STANDARD
TZOFFSETFROM:-0400
TZOFFSETTO:-0500
TZNAME:EST
DTSTART:20241103T060000
END:STANDARD
BEGIN:DAYLIGHT
TZOFFSETFROM:-0500
TZOFFSETTO:-0400
TZNAME:EDT
DTSTART:20250309T070000
END:DAYLIGHT
BEGIN:STANDARD
TZOFFSETFROM:-0400
TZOFFSETTO:-0500
TZNAME:EST
DTSTART:20251102T060000
END:STANDARD
BEGIN:DAYLIGHT
TZOFFSETFROM:-0500
TZOFFSETTO:-0400
TZNAME:EDT
DTSTART:20260308T070000
END:DAYLIGHT
BEGIN:STANDARD
TZOFFSETFROM:-0400
TZOFFSETTO:-0500
TZNAME:EST
DTSTART:20261101T060000
END:STANDARD
END:VTIMEZONE
BEGIN:VEVENT
DTSTART;TZID=America/New_York:20250729T093000
DTEND;TZID=America/New_York:20250729T113000
DTSTAMP:20260422T201549
CREATED:20250425T191613Z
LAST-MODIFIED:20250616T192546Z
UID:10000012-1753781400-1753788600@demswvc.com
SUMMARY:Field Trip to Milagro House Group Tour #2
DESCRIPTION:Join us for this second\, identical tour of the impressive Milagro House to be held at 10 AM on Tuesday July 29th.  This non-profit helps women with children achieve long-term success through education. Pre-registration is required: contact Ross Fairweather at rossfair63@gmail.com or 717-405-8447 to signup and schedule a ride to the event.  (Allow two hours\, door-to-door total duration.) \nClick on this hotlink to learn more about Milagro House:  Milagro House Field Trips
URL:https://demswvc.com/event/july-29-2025-milagro-house-group-tour-2/
CATEGORIES:General Meetings
ORGANIZER;CN="(Ms.) Ross Fairweather":MAILTO:rossfair63@gmail.com
END:VEVENT
END:VCALENDAR