BEGIN:VCALENDAR
VERSION:2.0
PRODID:-//Democratic Club of Willow Valley - ECPv6.15.20//NONSGML v1.0//EN
CALSCALE:GREGORIAN
METHOD:PUBLISH
X-WR-CALNAME:Democratic Club of Willow Valley
X-ORIGINAL-URL:https://demswvc.com
X-WR-CALDESC:Events for Democratic Club of Willow Valley
REFRESH-INTERVAL;VALUE=DURATION:PT1H
X-Robots-Tag:noindex
X-PUBLISHED-TTL:PT1H
BEGIN:VTIMEZONE
TZID:America/New_York
BEGIN:DAYLIGHT
TZOFFSETFROM:-0500
TZOFFSETTO:-0400
TZNAME:EDT
DTSTART:20240310T070000
END:DAYLIGHT
BEGIN:STANDARD
TZOFFSETFROM:-0400
TZOFFSETTO:-0500
TZNAME:EST
DTSTART:20241103T060000
END:STANDARD
BEGIN:DAYLIGHT
TZOFFSETFROM:-0500
TZOFFSETTO:-0400
TZNAME:EDT
DTSTART:20250309T070000
END:DAYLIGHT
BEGIN:STANDARD
TZOFFSETFROM:-0400
TZOFFSETTO:-0500
TZNAME:EST
DTSTART:20251102T060000
END:STANDARD
BEGIN:DAYLIGHT
TZOFFSETFROM:-0500
TZOFFSETTO:-0400
TZNAME:EDT
DTSTART:20260308T070000
END:DAYLIGHT
BEGIN:STANDARD
TZOFFSETFROM:-0400
TZOFFSETTO:-0500
TZNAME:EST
DTSTART:20261101T060000
END:STANDARD
END:VTIMEZONE
BEGIN:VEVENT
DTSTART;TZID=America/New_York:20250609T133000
DTEND;TZID=America/New_York:20250609T150000
DTSTAMP:20260422T232604
CREATED:20250531T174616Z
LAST-MODIFIED:20250627T151921Z
UID:10000016-1749475800-1749481200@demswvc.com
SUMMARY:Billionaires Win! Families Lose!
DESCRIPTION:We will look at the Reconciliation Bill that just passed the US House of Representatives. \n  \nClick on this hotlink to see the slides used in this presentation: UoD Billionaires Win
URL:https://demswvc.com/event/34739/
LOCATION:Cultural Center Education Room
CATEGORIES:Education
END:VEVENT
END:VCALENDAR