BEGIN:VCALENDAR
VERSION:2.0
PRODID:-//Democratic Club of Willow Valley - ECPv6.15.20//NONSGML v1.0//EN
CALSCALE:GREGORIAN
METHOD:PUBLISH
X-ORIGINAL-URL:https://demswvc.com
X-WR-CALDESC:Events for Democratic Club of Willow Valley
REFRESH-INTERVAL;VALUE=DURATION:PT1H
X-Robots-Tag:noindex
X-PUBLISHED-TTL:PT1H
BEGIN:VTIMEZONE
TZID:America/New_York
BEGIN:DAYLIGHT
TZOFFSETFROM:-0500
TZOFFSETTO:-0400
TZNAME:EDT
DTSTART:20240310T070000
END:DAYLIGHT
BEGIN:STANDARD
TZOFFSETFROM:-0400
TZOFFSETTO:-0500
TZNAME:EST
DTSTART:20241103T060000
END:STANDARD
BEGIN:DAYLIGHT
TZOFFSETFROM:-0500
TZOFFSETTO:-0400
TZNAME:EDT
DTSTART:20250309T070000
END:DAYLIGHT
BEGIN:STANDARD
TZOFFSETFROM:-0400
TZOFFSETTO:-0500
TZNAME:EST
DTSTART:20251102T060000
END:STANDARD
BEGIN:DAYLIGHT
TZOFFSETFROM:-0500
TZOFFSETTO:-0400
TZNAME:EDT
DTSTART:20260308T070000
END:DAYLIGHT
BEGIN:STANDARD
TZOFFSETFROM:-0400
TZOFFSETTO:-0500
TZNAME:EST
DTSTART:20261101T060000
END:STANDARD
END:VTIMEZONE
BEGIN:VEVENT
DTSTART;TZID=America/New_York:20250218T100000
DTEND;TZID=America/New_York:20250218T113000
DTSTAMP:20260423T044721
CREATED:20250224T113613Z
LAST-MODIFIED:20250616T194223Z
UID:10000001-1739872800-1739878200@demswvc.com
SUMMARY:Panel Discussion - How The ILC is Polarizing Our Public Schools
DESCRIPTION:Join Public Education Advocates of Lancaster (PEAL) as they moderate a discussion with panelists from Etown Common Sense\, Support Hempfield Schools\, and Warwick United about the impact the Independence Law Center and PA Family Institute have had on districts across the county. They’ll talk about who the ILC is\, what they do\, and the divisions caused by their policies on LGBTQ+ students\, library materials\, and more. \nTo see the PDF containing the slides of the event\, click on this hotlink: The ILC Polarizing Our Public Schools: February 18th\, 2025
URL:https://demswvc.com/event/panel-discussion/
CATEGORIES:Education
END:VEVENT
END:VCALENDAR