BEGIN:VCALENDAR
VERSION:2.0
PRODID:-//Democratic Club of Willow Valley - ECPv6.15.20//NONSGML v1.0//EN
CALSCALE:GREGORIAN
METHOD:PUBLISH
X-WR-CALNAME:Democratic Club of Willow Valley
X-ORIGINAL-URL:https://demswvc.com
X-WR-CALDESC:Events for Democratic Club of Willow Valley
REFRESH-INTERVAL;VALUE=DURATION:PT1H
X-Robots-Tag:noindex
X-PUBLISHED-TTL:PT1H
BEGIN:VTIMEZONE
TZID:America/New_York
BEGIN:DAYLIGHT
TZOFFSETFROM:-0500
TZOFFSETTO:-0400
TZNAME:EDT
DTSTART:20240310T070000
END:DAYLIGHT
BEGIN:STANDARD
TZOFFSETFROM:-0400
TZOFFSETTO:-0500
TZNAME:EST
DTSTART:20241103T060000
END:STANDARD
BEGIN:DAYLIGHT
TZOFFSETFROM:-0500
TZOFFSETTO:-0400
TZNAME:EDT
DTSTART:20250309T070000
END:DAYLIGHT
BEGIN:STANDARD
TZOFFSETFROM:-0400
TZOFFSETTO:-0500
TZNAME:EST
DTSTART:20251102T060000
END:STANDARD
BEGIN:DAYLIGHT
TZOFFSETFROM:-0500
TZOFFSETTO:-0400
TZNAME:EDT
DTSTART:20260308T070000
END:DAYLIGHT
BEGIN:STANDARD
TZOFFSETFROM:-0400
TZOFFSETTO:-0500
TZNAME:EST
DTSTART:20261101T060000
END:STANDARD
END:VTIMEZONE
BEGIN:VEVENT
DTSTART;TZID=America/New_York:20250601T080000
DTEND;TZID=America/New_York:20250630T170000
DTSTAMP:20260422T190237
CREATED:20250924T192734Z
LAST-MODIFIED:20250924T192734Z
UID:10000029-1748764800-1751302800@demswvc.com
SUMMARY:June 2025 Newsletter
DESCRIPTION:Dems Club Newsletter 2025 June
URL:https://demswvc.com/event/june-2025-newsletter/
CATEGORIES:Newsletters
END:VEVENT
END:VCALENDAR